BEGIN:VCALENDAR
VERSION:2.0
PRODID:icalendar-ruby
CALSCALE:GREGORIAN
METHOD:PUBLISH
BEGIN:VEVENT
DTSTAMP:20260422T064640Z
UID:470-653916@riversidedisciples.org
DTSTART:20260518T233000Z
DTEND:20260519T000000Z
CLASS:PUBLIC
CREATED:20260421T125651
DESCRIPTION:Special RCC Block Party Planning Team
LAST-MODIFIED:20260421T125651
LOCATION:RCC Fellowship Hall
SUMMARY:Blk Party Planning Team
URL;VALUE=URI:https://www.riversidedisciples.org/events/blk-party-planning-
 team/2026-05-18
END:VEVENT
END:VCALENDAR
