BEGIN:VCALENDAR
VERSION:2.0
PRODID:icalendar-ruby
CALSCALE:GREGORIAN
METHOD:PUBLISH
BEGIN:VEVENT
DTSTAMP:20260421T083600Z
UID:321-593176@riversidedisciples.org
DTSTART:20260419T163000Z
DTEND:20260419T173000Z
CLASS:PUBLIC
CREATED:20260306T144002
DESCRIPTION:Time: 11:30 a.m. - 12:30 p.m.\nRoom: Riverside Christian Chur
 ch Library\nDate: Usually meets monthly\, on the fourth Sunday immediatel
 y after worship service unless otherwise posted.\nLed by Christian Educati
 on Chair\, Jennifer Johnson who is elected by the Board and works alongsid
 e with the Senior Minister\, this is a coordinated group open to those int
 erested in planning the education classes of Riverside Christian Church. 
 \nIf you are interested to join this committee\, please sign up at the ann
 ual autumn Ministry Fair or call the church office (316.263.0900) to be co
 nnected with Jennifer. 
LAST-MODIFIED:20260306T144002
LOCATION:RCC Library
SUMMARY:Christian Education Meeting
URL;VALUE=URI:https://www.riversidedisciples.org/events/christian-education
 -meeting/2026-04-19
END:VEVENT
END:VCALENDAR
