BEGIN:VCALENDAR
VERSION:2.0
PRODID:icalendar-ruby
CALSCALE:GREGORIAN
METHOD:PUBLISH
BEGIN:VEVENT
DTSTAMP:20260423T104053Z
UID:232-531075@riversidedisciples.org
DTSTART:20261210T203000Z
DTEND:20261210T213000Z
CLASS:PUBLIC
CREATED:20260118T130810
DESCRIPTION:Time: 2:30 - 3:30 p.m.\nRoom: Fellowship Hall at Riverside Chri
 stian Church // On Dec. 4 - MEETS IN RM 100 (SS Rm)\nDay: Weekly\, on Thur
 sdays except on most national holidays\nLed by Dr. Robin\, grief can often
  be difficult to understand. It can be fresh or still feel fresh to you. W
 e offer an empathetic ear. Talking with someone who has a shared or simila
 r experience of deeply personal loss may be helpful in working through you
 r grief. We offer a Bible-led study\, or a current book or topic\, and fol
 low it with a group support discussion. It is a safe and confidential envi
 ronment for everyone\, no matter what the loss.\n 
LAST-MODIFIED:20260118T130810
LOCATION:RCC Fellowship Hall
SUMMARY:Grief Support Group
URL;VALUE=URI:https://www.riversidedisciples.org/events/grief-support-group
 --232/2026-12-10
ATTACH;FILENAME=Grief-Support-Meeting.png;FMTTYPE=image/png:https://dq5pwpg
 1q8ru0.cloudfront.net/2024/11/06/21/23/44/c52481ca-ee81-4ebd-af22-f6a962d6
 34c4/Grief-Support-Meeting.png
END:VEVENT
END:VCALENDAR
