BEGIN:VCALENDAR
VERSION:2.0
PRODID:icalendar-ruby
CALSCALE:GREGORIAN
METHOD:PUBLISH
BEGIN:VEVENT
DTSTAMP:20260422T083242Z
UID:393-653026@riversidedisciples.org
DTSTART:20260510T164500Z
DTEND:20260511T044500Z
CLASS:PUBLIC
CREATED:20260420T190818
DESCRIPTION:Routine upkeep for Little Library on church grounds
LAST-MODIFIED:20260420T190818
LOCATION:RCC Parking Lot
SUMMARY:Library Maintenance 
URL;VALUE=URI:https://www.riversidedisciples.org/events/library-maintenance
 /2026-05-10
END:VEVENT
END:VCALENDAR
